BEGIN:VCALENDAR
VERSION:2.0
PRODID:-//tESA - The Equine Shiatsu Association - ECPv6.15.20//NONSGML v1.0//EN
CALSCALE:GREGORIAN
METHOD:PUBLISH
X-WR-CALNAME:tESA - The Equine Shiatsu Association
X-ORIGINAL-URL:https://equineshiatsu.org
X-WR-CALDESC:Events for tESA - The Equine Shiatsu Association
REFRESH-INTERVAL;VALUE=DURATION:PT1H
X-Robots-Tag:noindex
X-PUBLISHED-TTL:PT1H
BEGIN:VTIMEZONE
TZID:GMT
END:VTIMEZONE
BEGIN:VEVENT
DTSTART;TZID=GMT:20260113T193000
DTEND;TZID=GMT:20260113T213000
DTSTAMP:20260424T000933
CREATED:20251210T133829Z
LAST-MODIFIED:20260112T140120Z
UID:1770-1768332600-1768339800@equineshiatsu.org
SUMMARY:Work Smarter not Harder with Apps
DESCRIPTION: \nTues 13 January 2026 at 7:30pm:  tESA Winter Online (Zoom) CPD Seminar  \nStart 2026 by streamlining and reducing your admin so you can focus on horses and life. Share your tips on what works well for you. Explore useful apps\, starting with a demo from Equigate\, and share your favourite tips for making things work smoothly.\n  \nEquigate are giving tESA a demo of their app\, which helps you manage your clients and your diary\, book sessions / automate appointments\,  send invoices\, communicate with clients and write and send reports including marked up pictures\, videos and documents. It  is free for students. \nAfter the demo\, we invite you to share your tips of what you do to reduce the burden of admin\, logistics etc. and make more time for the work you do with horses\, and manage your life / work  balance.   \nGuests Welcome. Free for tESA Members and non-members.  \nThis event is open to solo practitioners who work with horses\, including bodywork (eg shiatsu\, acupuncture\, massage\, physio\, osteo  etc)\, dentist\, vet\, farrier\, saddler\, trainer\, riding instructor.  Our modalities may be very different\, but many of the admin problems are similar! \nPLEASE EMAIL  LIZ.SHIATSU@GMAIL.COM TO BOOK YOUR PLACE    \n 
URL:https://equineshiatsu.org/event/work-smarter/
LOCATION:Zoom
CATEGORIES:Tuesday Zoom tESA Online Winter CPD
END:VEVENT
END:VCALENDAR