BEGIN:VCALENDAR
VERSION:2.0
PRODID:-//tESA - The Equine Shiatsu Association - ECPv6.15.20//NONSGML v1.0//EN
CALSCALE:GREGORIAN
METHOD:PUBLISH
X-ORIGINAL-URL:https://equineshiatsu.org
X-WR-CALDESC:Events for tESA - The Equine Shiatsu Association
REFRESH-INTERVAL;VALUE=DURATION:PT1H
X-Robots-Tag:noindex
X-PUBLISHED-TTL:PT1H
BEGIN:VTIMEZONE
TZID:GMT
END:VTIMEZONE
BEGIN:VEVENT
DTSTART;TZID=GMT:20260310T193000
DTEND;TZID=GMT:20260310T213000
DTSTAMP:20260423T221543
CREATED:20251210T133830Z
LAST-MODIFIED:20251211T091057Z
UID:1772-1773171000-1773178200@equineshiatsu.org
SUMMARY:The Thoracic sling and shoulders
DESCRIPTION:
URL:https://equineshiatsu.org/event/the-thoracic-sling-and-shoulders-3/
LOCATION:Zoom
CATEGORIES:Tuesday Zoom tESA Online Winter CPD
END:VEVENT
END:VCALENDAR