BEGIN:VCALENDAR
VERSION:2.0
PRODID:-//tESA - The Equine Shiatsu Association - ECPv6.15.20//NONSGML v1.0//EN
CALSCALE:GREGORIAN
METHOD:PUBLISH
X-ORIGINAL-URL:https://equineshiatsu.org
X-WR-CALDESC:Events for tESA - The Equine Shiatsu Association
REFRESH-INTERVAL;VALUE=DURATION:PT1H
X-Robots-Tag:noindex
X-PUBLISHED-TTL:PT1H
BEGIN:VTIMEZONE
TZID:GMT
END:VTIMEZONE
BEGIN:VEVENT
DTSTART;TZID=GMT:20260210T193000
DTEND;TZID=GMT:20260210T213000
DTSTAMP:20260423T234534
CREATED:20251210T133829Z
LAST-MODIFIED:20251211T091052Z
UID:1771-1770751800-1770759000@equineshiatsu.org
SUMMARY:Equine Shiatsu and Headshaking
DESCRIPTION:
URL:https://equineshiatsu.org/event/equine-shiatsu-and-headshaking-3/
LOCATION:Zoom
CATEGORIES:Tuesday Zoom tESA Online Winter CPD
END:VEVENT
END:VCALENDAR