BEGIN:VCALENDAR
VERSION:2.0
PRODID:-//tESA - The Equine Shiatsu Association - ECPv6.15.20//NONSGML v1.0//EN
CALSCALE:GREGORIAN
METHOD:PUBLISH
X-WR-CALNAME:tESA - The Equine Shiatsu Association
X-ORIGINAL-URL:https://equineshiatsu.org
X-WR-CALDESC:Events for tESA - The Equine Shiatsu Association
REFRESH-INTERVAL;VALUE=DURATION:PT1H
X-Robots-Tag:noindex
X-PUBLISHED-TTL:PT1H
BEGIN:VTIMEZONE
TZID:Europe/London
BEGIN:DAYLIGHT
TZOFFSETFROM:+0000
TZOFFSETTO:+0100
TZNAME:BST
DTSTART:20250330T010000
END:DAYLIGHT
BEGIN:STANDARD
TZOFFSETFROM:+0100
TZOFFSETTO:+0000
TZNAME:GMT
DTSTART:20251026T010000
END:STANDARD
BEGIN:DAYLIGHT
TZOFFSETFROM:+0000
TZOFFSETTO:+0100
TZNAME:BST
DTSTART:20260329T010000
END:DAYLIGHT
BEGIN:STANDARD
TZOFFSETFROM:+0100
TZOFFSETTO:+0000
TZNAME:GMT
DTSTART:20261025T010000
END:STANDARD
BEGIN:DAYLIGHT
TZOFFSETFROM:+0000
TZOFFSETTO:+0100
TZNAME:BST
DTSTART:20270328T010000
END:DAYLIGHT
BEGIN:STANDARD
TZOFFSETFROM:+0100
TZOFFSETTO:+0000
TZNAME:GMT
DTSTART:20271031T010000
END:STANDARD
END:VTIMEZONE
BEGIN:VEVENT
DTSTART;TZID=Europe/London:20260328T000000
DTEND;TZID=Europe/London:20260329T000000
DTSTAMP:20260423T210756
CREATED:20251211T112026Z
LAST-MODIFIED:20251211T114115Z
UID:1822-1774656000-1774742400@equineshiatsu.org
SUMMARY:Introduction to Equine Shiatsu
DESCRIPTION:  \nThese 2 day introduction to Equine Shiatsu courses are almost completely hands on and teach you how to give your horse a basic Shiatsu. \nLocation: near Kilmarnock\, Scotland. \nOrganised by The Scottish School of Equine and Canine Shiatsu \nFor details\, please email liz.shiatsu@gmail.com   \n \n 
URL:https://equineshiatsu.org/event/introduction-to-equine-shiatsu-2-2/
CATEGORIES:External Events hosted by tESA Members
END:VEVENT
END:VCALENDAR